BEGIN:VCALENDAR
VERSION:2.0
PRODID:-//Embayt Real Estate - ECPv6.15.10//NONSGML v1.0//EN
CALSCALE:GREGORIAN
METHOD:PUBLISH
X-WR-CALNAME:Embayt Real Estate
X-ORIGINAL-URL:https://ae.embayt.com
X-WR-CALDESC:Events for Embayt Real Estate
REFRESH-INTERVAL;VALUE=DURATION:PT1H
X-Robots-Tag:noindex
X-PUBLISHED-TTL:PT1H
BEGIN:VTIMEZONE
TZID:UTC
BEGIN:STANDARD
TZOFFSETFROM:+0000
TZOFFSETTO:+0000
TZNAME:UTC
DTSTART:20230101T000000
END:STANDARD
END:VTIMEZONE
BEGIN:VEVENT
DTSTART;TZID=UTC:20240117T080000
DTEND;TZID=UTC:20240117T170000
DTSTAMP:20260425T012755
CREATED:20240117T043820Z
LAST-MODIFIED:20240117T043820Z
UID:11537-1705478400-1705510800@ae.embayt.com
SUMMARY:KARACHI\, MARRIOTT Hotel
DESCRIPTION:Our journey concludes in Karachi\, Pakistan’s economic\npowerhouse and a city with a booming real estate sector. Karachi’s\ninvestors and homebuyers will have the chance to discover\nDubai’s captivating investment opportunities. From upscale\nresidential properties to lucrative ventures\, our team will be on\nhand to provide insights and expertise tailored to your needs. \nPresentations:\nSession 1: 11 AM – 12:00\nSession 2: 3 PM – 4 PM\nSession 3: 7 PM – 8 PM
URL:https://ae.embayt.com/event/karachi-marriott-hotel/
ATTACH;FMTTYPE=image/webp:https://ae.embayt.com/wp-content/uploads/2024/01/amenity2.webp
END:VEVENT
END:VCALENDAR